BEGIN:VCALENDAR
VERSION:2.0
PRODID:-//FQCO - ECPv6.0.12//NONSGML v1.0//EN
CALSCALE:GREGORIAN
METHOD:PUBLISH
X-ORIGINAL-URL:https://courseorientationquebec.ca
X-WR-CALDESC:évènements pour FQCO
REFRESH-INTERVAL;VALUE=DURATION:PT1H
X-Robots-Tag:noindex
X-PUBLISHED-TTL:PT1H
BEGIN:VTIMEZONE
TZID:America/Toronto
BEGIN:DAYLIGHT
TZOFFSETFROM:-0500
TZOFFSETTO:-0400
TZNAME:EDT
DTSTART:20260308T070000
END:DAYLIGHT
BEGIN:STANDARD
TZOFFSETFROM:-0400
TZOFFSETTO:-0500
TZNAME:EST
DTSTART:20261101T060000
END:STANDARD
END:VTIMEZONE
BEGIN:VEVENT
DTSTART;TZID=America/Toronto:20260208T100000
DTEND;TZID=America/Toronto:20260208T130000
DTSTAMP:20260419T084615
CREATED:20260120T001520Z
LAST-MODIFIED:20260120T001628Z
UID:833-1770544800-1770555600@courseorientationquebec.ca
SUMMARY:Ski-O/Snowshoe-O
DESCRIPTION:ski orientation et raquette orientation
URL:https://courseorientationquebec.ca/event/ski-o-snowshoe-o-2/
LOCATION:Wesley Clover Parks\, 401 Corkstown Rd\, Nepean\, Québec\, K2H 8T1\, Canada
CATEGORIES:Course d’orientation
ATTACH;FMTTYPE=image/png:https://courseorientationquebec.ca/wp-content/uploads/2023/01/orienteeringottawa_logo-300x155-1.png
ORGANIZER;CN="Club%20Orienteering%20Ottawa":MAILTO:president@ottawaoc.ca
END:VEVENT
END:VCALENDAR