BEGIN:VCALENDAR
VERSION:2.0
PRODID:-//FQCO - ECPv6.0.12//NONSGML v1.0//EN
CALSCALE:GREGORIAN
METHOD:PUBLISH
X-ORIGINAL-URL:https://courseorientationquebec.ca
X-WR-CALDESC:évènements pour FQCO
REFRESH-INTERVAL;VALUE=DURATION:PT1H
X-Robots-Tag:noindex
X-PUBLISHED-TTL:PT1H
BEGIN:VTIMEZONE
TZID:America/Toronto
BEGIN:DAYLIGHT
TZOFFSETFROM:-0500
TZOFFSETTO:-0400
TZNAME:EDT
DTSTART:20260308T070000
END:DAYLIGHT
BEGIN:STANDARD
TZOFFSETFROM:-0400
TZOFFSETTO:-0500
TZNAME:EST
DTSTART:20261101T060000
END:STANDARD
END:VTIMEZONE
BEGIN:VEVENT
DTSTART;TZID=America/Toronto:20260325T180000
DTEND;TZID=America/Toronto:20260325T190000
DTSTAMP:20260419T101334
CREATED:20260416T231245Z
LAST-MODIFIED:20260416T234616Z
UID:951-1774461600-1774465200@courseorientationquebec.ca
SUMMARY:Vikazimut  Magog
DESCRIPTION:Séries de courses d’orientation en Estrie VIKAZIMUT \nTypes d’événement: événement Score-O (trouver le maximum de balises dans le temps alloué de 1h) individuel ou en équipe. Il faut avoir un téléphone par personne ou par équipe. Télécharger l’application VIKAZIMUT
URL:https://courseorientationquebec.ca/event/vikazimut-magog/
LOCATION:Magog
CATEGORIES:Course d’orientation
ATTACH;FMTTYPE=image/png:https://courseorientationquebec.ca/wp-content/uploads/2023/01/accro-o-sport_web_acceuil_b_2018-01-31-300x111-1.png
ORGANIZER;CN="Accro%20O%20Sport":MAILTO:accroosport@gmail.com
END:VEVENT
END:VCALENDAR