BEGIN:VCALENDAR
VERSION:2.0
PRODID:-//FQCO - ECPv6.0.12//NONSGML v1.0//EN
CALSCALE:GREGORIAN
METHOD:PUBLISH
X-WR-CALNAME:FQCO
X-ORIGINAL-URL:https://courseorientationquebec.ca
X-WR-CALDESC:évènements pour FQCO
REFRESH-INTERVAL;VALUE=DURATION:PT1H
X-Robots-Tag:noindex
X-PUBLISHED-TTL:PT1H
BEGIN:VTIMEZONE
TZID:America/Toronto
BEGIN:DAYLIGHT
TZOFFSETFROM:-0500
TZOFFSETTO:-0400
TZNAME:EDT
DTSTART:20260308T070000
END:DAYLIGHT
BEGIN:STANDARD
TZOFFSETFROM:-0400
TZOFFSETTO:-0500
TZNAME:EST
DTSTART:20261101T060000
END:STANDARD
END:VTIMEZONE
BEGIN:VEVENT
DTSTART;TZID=America/Toronto:20260423T190000
DTEND;TZID=America/Toronto:20260423T220000
DTSTAMP:20260423T060207
CREATED:20260416T223618Z
LAST-MODIFIED:20260416T224954Z
UID:914-1776970800-1776981600@courseorientationquebec.ca
SUMMARY:Atelier Course d'orientation Entraineurs communautaires PNCE
DESCRIPTION:Formation PNCE entraineur communautaire\, course d’orientation.\n3 séances\, total 7 heures\n2 séances en Zoom\, jeudi 23 avril 19h-22h et lundi 27 avril 19h -21h\n1 séance en présentiel au parc Philippe Leheurte\, 13h-15h(après la course des Ramblers)  \nAutres informations
URL:https://courseorientationquebec.ca/event/atelier-course-dorientation-pour-les-entraineurs-communautaires/
LOCATION:Zoom et Parc Philippe Laheurte\, 3035 Av. Ernest - Hemingway\, Saint-Laurent\, QC\, H4R 0A9
CATEGORIES:Atelier de formation
ATTACH;FMTTYPE=image/jpeg:https://courseorientationquebec.ca/wp-content/uploads/2023/05/og-image.jpg
END:VEVENT
END:VCALENDAR