BEGIN:VCALENDAR
VERSION:2.0
PRODID:-//FQCO - ECPv6.0.12//NONSGML v1.0//EN
CALSCALE:GREGORIAN
METHOD:PUBLISH
X-ORIGINAL-URL:https://courseorientationquebec.ca
X-WR-CALDESC:évènements pour FQCO
REFRESH-INTERVAL;VALUE=DURATION:PT1H
X-Robots-Tag:noindex
X-PUBLISHED-TTL:PT1H
BEGIN:VTIMEZONE
TZID:America/Toronto
BEGIN:DAYLIGHT
TZOFFSETFROM:-0500
TZOFFSETTO:-0400
TZNAME:EDT
DTSTART:20260308T070000
END:DAYLIGHT
BEGIN:STANDARD
TZOFFSETFROM:-0400
TZOFFSETTO:-0500
TZNAME:EST
DTSTART:20261101T060000
END:STANDARD
END:VTIMEZONE
BEGIN:VEVENT
DTSTART;TZID=America/Toronto:20260118T100000
DTEND;TZID=America/Toronto:20260118T140000
DTSTAMP:20260419T084602
CREATED:20260120T000219Z
LAST-MODIFIED:20260120T000219Z
UID:826-1768730400-1768744800@courseorientationquebec.ca
SUMMARY:Ski-O/Snowshoe-O/MTB-O
DESCRIPTION:ski orientation\, raquette orientation et vélo de montagne orientation
URL:https://courseorientationquebec.ca/event/ski-o-snowshoe-o-mtb-o/
LOCATION:Lac Beauchamp\, 741\, boul. Maloney E.\, Gatineau\, Québec\, J8T 3R6\, Canada
CATEGORIES:Course d’orientation
ATTACH;FMTTYPE=image/png:https://courseorientationquebec.ca/wp-content/uploads/2023/01/orienteeringottawa_logo-300x155-1.png
ORGANIZER;CN="Club%20Orienteering%20Ottawa":MAILTO:president@ottawaoc.ca
END:VEVENT
BEGIN:VEVENT
DTSTART;TZID=America/Toronto:20260125T100000
DTEND;TZID=America/Toronto:20260125T130000
DTSTAMP:20260419T084602
CREATED:20260120T000848Z
LAST-MODIFIED:20260120T000925Z
UID:829-1769335200-1769346000@courseorientationquebec.ca
SUMMARY:Ski-O/Snowshoe-O
DESCRIPTION:ski orientation et raquette orientation
URL:https://courseorientationquebec.ca/event/ski-o-snowshoe-o/
LOCATION:Nakkertok\, 575 Chem. Saint-Columban\, Gatineau\, Québec\, J8V 4A6\, Canada
CATEGORIES:Course d’orientation
ATTACH;FMTTYPE=image/png:https://courseorientationquebec.ca/wp-content/uploads/2023/01/orienteeringottawa_logo-300x155-1.png
ORGANIZER;CN="Club%20Orienteering%20Ottawa":MAILTO:president@ottawaoc.ca
END:VEVENT
BEGIN:VEVENT
DTSTART;TZID=America/Toronto:20260131T080000
DTEND;TZID=America/Toronto:20260131T170000
DTSTAMP:20260419T084602
CREATED:20260224T191814Z
LAST-MODIFIED:20260224T191814Z
UID:838-1769846400-1769878800@courseorientationquebec.ca
SUMMARY:Foot-O parc Bernard Landry
DESCRIPTION:Foot-O
URL:https://courseorientationquebec.ca/event/foot-o-parc-bernard-landry/
LOCATION:Parc Bernard Landry\, 5 Av. du Crochet\, Laval\, Québec\, H7N 2T8\, Canada
CATEGORIES:Course d’orientation
ATTACH;FMTTYPE=image/png:https://courseorientationquebec.ca/wp-content/uploads/2023/01/Ramblers-White-300x300-1.png
ORGANIZER;CN="Club%20de%20course%20d%27orientation%20Ramblers":MAILTO:info.ramblersoc@gmail.com
END:VEVENT
BEGIN:VEVENT
DTSTART;TZID=America/Toronto:20260131T170000
DTEND;TZID=America/Toronto:20260131T190000
DTSTAMP:20260419T084602
CREATED:20260416T230117Z
LAST-MODIFIED:20260416T231042Z
UID:947-1769878800-1769886000@courseorientationquebec.ca
SUMMARY:Ski-O Granby
DESCRIPTION:
URL:https://courseorientationquebec.ca/event/ski-o-granby/
LOCATION:Les Cèdres golf et plein air\, Granby\, 669 Rue Coupland\, Granby\, Québec\, J2H 0P7\, Canada
CATEGORIES:Course d’orientation
ATTACH;FMTTYPE=image/png:https://courseorientationquebec.ca/wp-content/uploads/2023/01/accro-o-sport_web_acceuil_b_2018-01-31-300x111-1.png
ORGANIZER;CN="Accro%20O%20Sport":MAILTO:accroosport@gmail.com
END:VEVENT
END:VCALENDAR